Back to the "Multiple platform build/check report"
| Package 88/214 | Hostname | OS | Arch | BUILD | CHECK | BUILD BIN | 
| goTools1.8.0Agnes PaquetLast Changed Date: 2007-04-24 11:21:48 -0700 Last Changed Rev: 24214 | lamb1 | Linux (SUSE 10.1) | x86_64 | OK | [ TIMEOUT ] | |
| wellington | Linux (SUSE 9.2) | i686 | OK | OK | ||
| lemming | Windows Server 2003 (32-bit) | x64 | OK | OK | OK | 
| Package: goTools | 
| Version: 1.8.0 | 
| Command: /home/biocbuild/bbs-2.0-bioc/R/bin/R CMD check goTools_1.8.0.tar.gz | 
| RetCode: None | 
| Time: 2400.2 seconds | 
| Status: TIMEOUT | 
| CheckDir: goTools.Rcheck | 
| Warnings: NA | 
* checking for working latex ... OK * using log directory '/home/biocbuild/bbs-2.0-bioc/meat/goTools.Rcheck' * using R version 2.5.1 (2007-06-27) * checking for file 'goTools/DESCRIPTION' ... OK * this is package 'goTools' version '1.8.0' * checking package dependencies ... OK * checking if this is a source package ... OK * checking whether package 'goTools' can be installed ... OK * checking package directory ... OK * checking for portable file names ... OK * checking for sufficient/correct file permissions ... OK * checking DESCRIPTION meta-information ... OK * checking top-level files ... OK * checking index information ... OK * checking package subdirectories ... OK * checking R files for non-ASCII characters ... OK * checking R files for syntax errors ... OK * checking whether the package can be loaded ... OK * checking whether the package can be loaded with stated dependencies ... OK * checking for unstated dependencies in R code ... OK * checking S3 generic/method consistency ... OK * checking replacement functions ... OK * checking foreign function calls ... OK * checking R code for possible problems ... OK * checking Rd files ... OK * checking Rd cross-references ... OK * checking for missing documentation entries ... OK * checking for code/documentation mismatches ... OK * checking Rd \usage sections ... OK * checking data for non-ASCII characters ... OK * creating goTools-Ex.R ... OK * checking examples ...
goTools.Rcheck/00install.out:
* Installing *source* package 'goTools' ...
** R
** data
** inst
** save image
Loading required package: Biobase
Loading required package: tools
Welcome to Bioconductor
  Vignettes contain introductory material. To view, type
  'openVignette()'. To cite Bioconductor, see
  'citation("Biobase")' and for packages 'citation(pkgname)'.
Loading required package: annotate
Loading required package: GO
** help
 >>> Building/Updating help pages for package 'goTools'
     Formats: text html latex example 
  EndNodeList                       text    html    latex   example
  goTools-internal                  text    html    latex
  ontoCompare                       text    html    latex   example
  probeID                           text    html    latex
** building package indices ...
* DONE (goTools)