Back to the "Multiple platform build/check report"
| Package 86/214 | Hostname | OS | Arch | BUILD | CHECK | BUILD BIN | 
| globaltest4.6.0Jelle GoemanLast Changed Date: 2007-04-24 11:21:48 -0700 Last Changed Rev: 24214 | lamb1 | Linux (SUSE 10.1) | x86_64 | OK | OK | |
| wellington | Linux (SUSE 9.2) | i686 | OK | OK | ||
| lemming | Windows Server 2003 (32-bit) | x64 | [ OK ] | OK | OK | 
| Package: globaltest | 
| Version: 4.6.0 | 
| Command: D:\biocbld\bbs-2.0-bioc\R\bin\R.exe CMD build globaltest | 
| RetCode: 0 | 
| Time: 166.0 seconds | 
| Status: OK | 
| PackageFile: globaltest_4.6.0.tar.gz | 
* checking for file 'globaltest/DESCRIPTION' ... OK
* preparing 'globaltest':
* checking DESCRIPTION meta-information ... OK
* installing the package to re-build vignettes
installing R.css in D:/biocbld/bbs-2.0-bioc/tmpdir/Rinst604427926
---------- Making package globaltest ------------
  adding build stamp to DESCRIPTION
  installing NAMESPACE file and metadata
  installing R files
  save image
Loading required package: multtest
Loading required package: Biobase
Loading required package: tools
Welcome to Bioconductor
  Vignettes contain introductory material. To view, type
  'openVignette()'. To cite Bioconductor, see
  'citation("Biobase")' and for packages 'citation(pkgname)'.
Loading required package: survival
Loading required package: splines
Creating a new generic function for "fitted.values" in "globaltest"
Creating a new generic function for "residuals" in "globaltest"
  installing inst files
  installing data files
  preparing package globaltest for lazy loading
Loading required package: multtest
Loading required package: Biobase
Loading required package: tools
Welcome to Bioconductor
  Vignettes contain introductory material. To view, type
  'openVignette()'. To cite Bioconductor, see
  'citation("Biobase")' and for packages 'citation(pkgname)'.
Loading required package: survival
Loading required package: splines
  installing man source files
  installing indices
  not zipping data
  installing help
 >>> Building/Updating help pages for package 'globaltest'
     Formats: text html latex example chm 
  GOstructure                       text    html    latex           chm
  annotation.vandeVijver            text    html    latex           chm
  checkerboard                      text    html    latex   example chm
  geneplot                          text    html    latex   example chm
  globaltest                        text    html    latex   example chm
  gostructure.vandeVijver           text    html    latex           chm
  gt.barplot-class                  text    html    latex           chm
  gt.result-class                   text    html    latex           chm
  gtGO                              text    html    latex   example chm
  mlogit                            text    html    latex   example chm
  multtest                          text    html    latex   example chm
  permutations                      text    html    latex   example chm
  regressionplot                    text    html    latex   example chm
  sampleplot                        text    html    latex   example chm
  sampling                          text    html    latex   example chm
  vandeVijver                       text    html    latex           chm
Microsoft HTML Help Compiler 4.74.8702
Compiling d:\biocbld\bbs-2.0-bioc\meat\globaltest\chm\globaltest.chm
Compile time: 0 minutes, 0 seconds
17	Topics
162	Local links
0	Internet links
1	Graphic
Created d:\biocbld\bbs-2.0-bioc\meat\globaltest\chm\globaltest.chm, 48,289 bytes
Compression decreased file by 45,531 bytes.
  adding MD5 sums
* DONE (globaltest)
* creating vignettes ... OK
* removing junk files
* checking for LF line-endings in source files
* checking for empty or unneeded directories
* building 'globaltest_4.6.0.tar.gz'