Back to the "Multiple platform build/check report"
| Package 73/214 | Hostname | OS | Arch | BUILD | CHECK | BUILD BIN | 
| geneplotter1.14.0Biocore TeamLast Changed Date: 2007-04-24 11:21:48 -0700 Last Changed Rev: 24214 | lamb1 | Linux (SUSE 10.1) | x86_64 | OK | OK | |
| wellington | Linux (SUSE 9.2) | i686 | OK | OK | ||
| lemming | Windows Server 2003 (32-bit) | x64 | OK | OK | [ OK ] | 
| Package: geneplotter | 
| Version: 1.14.0 | 
| Command: D:\biocbld\bbs-2.0-bioc\R\bin\R.exe CMD INSTALL --build --library=geneplotter.buildbin-libdir geneplotter_1.14.0.tar.gz | 
| RetCode: 0 | 
| Time: 23.1 seconds | 
| Status: OK | 
| PackageFile: geneplotter_1.14.0.zip | 
installing R.css in D:/biocbld/bbs-2.0-bioc/meat/geneplotter.buildbin-libdir
Using auto-selected zip options 'geneplotter-ZIPDATA=zip'
---------- Making package geneplotter ------------
  adding build stamp to DESCRIPTION
  installing NAMESPACE file and metadata
  installing R files
  save image
Loading required package: annotate
Loading required package: Biobase
Loading required package: tools
Welcome to Bioconductor
  Vignettes contain introductory material. To view, type
  'openVignette()'. To cite Bioconductor, see
  'citation("Biobase")' and for packages 'citation(pkgname)'.
Loading required package: lattice
KernSmooth 2.22 installed
Copyright M. P. Wand 1997
  installing inst files
  installing data files
  installing man source files
  installing indices
  zipping data
  installing help
 >>> Building/Updating help pages for package 'geneplotter'
     Formats: text html latex example chm 
  GetColor                          text    html    latex   example chm
  Makesense                         text    html    latex   example chm
  alongChrom                        text    html    latex   example chm
  amplicon.plot                     text    html    latex   example chm
  cColor                            text    html    latex   example chm
  cPlot                             text    html    latex   example chm
  cScale                            text    html    latex   example chm
  classes                           text    html    latex           chm
  eset133a                          text    html    latex   example chm
  histStack                         text    html    latex   example chm
  identifyLines                     text    html    latex   example chm
  imageMap                          text    html    latex   example chm
  make.chromOrd                     text    html    latex   example chm
  multiecdf                         text    html    latex   example chm
  openHtmlPage                      text    html    latex   example chm
  panel.smoothScatter               text    html    latex   example chm
  plotChr                           text    html    latex   example chm
  plotExpressionGraph               text    html    latex   example chm
  savepng                           text    html    latex   example chm
  smoothscatter                     text    html    latex   example chm
Microsoft HTML Help Compiler 4.74.8702
Compiling d:\biocbld\bbs-2.0-bioc\meat\R.INSTALL.3544\geneplotter\chm\geneplotter.chm
Compile time: 0 minutes, 0 seconds
21	Topics
91	Local links
5	Internet links
1	Graphic
Created d:\biocbld\bbs-2.0-bioc\meat\R.INSTALL.3544\geneplotter\chm\geneplotter.chm, 55,290 bytes
Compression decreased file by 47,910 bytes.
  adding MD5 sums
packaged installation of package 'geneplotter' as geneplotter_1.14.0.zip
* DONE (geneplotter)