Back to the "Multiple platform build/check report"
| Package 68/214 | Hostname | OS | Arch | BUILD | CHECK | BUILD BIN | 
| gaggle1.4.0Paul ShannonLast Changed Date: 2007-04-24 11:21:48 -0700 Last Changed Rev: 24214 | lamb1 | Linux (SUSE 10.1) | x86_64 | OK | [ OK ] | |
| wellington | Linux (SUSE 9.2) | i686 | OK | OK | ||
| lemming | Windows Server 2003 (32-bit) | x64 | OK | OK | OK | 
| Package: gaggle | 
| Version: 1.4.0 | 
| Command: /home/biocbuild/bbs-2.0-bioc/R/bin/R CMD check gaggle_1.4.0.tar.gz | 
| RetCode: 0 | 
| Time: 21.5 seconds | 
| Status: OK | 
| CheckDir: gaggle.Rcheck | 
| Warnings: 0 | 
* checking for working latex ... OK * using log directory '/home/biocbuild/bbs-2.0-bioc/meat/gaggle.Rcheck' * using R version 2.5.1 (2007-06-27) * checking for file 'gaggle/DESCRIPTION' ... OK * this is package 'gaggle' version '1.4.0' * checking package dependencies ... OK * checking if this is a source package ... OK * checking whether package 'gaggle' can be installed ... OK * checking package directory ... OK * checking for portable file names ... OK * checking for sufficient/correct file permissions ... OK * checking DESCRIPTION meta-information ... OK * checking top-level files ... OK * checking index information ... OK * checking package subdirectories ... OK * checking R files for non-ASCII characters ... OK * checking R files for syntax errors ... OK * checking whether the package can be loaded ... OK * checking whether the package can be loaded with stated dependencies ... OK * checking whether the name space can be loaded with stated dependencies ... OK * checking for unstated dependencies in R code ... OK * checking S3 generic/method consistency ... OK * checking replacement functions ... OK * checking foreign function calls ... OK * checking R code for possible problems ... OK * checking Rd files ... OK * checking Rd cross-references ... OK * checking for missing documentation entries ... OK * checking for code/documentation mismatches ... OK * checking Rd \usage sections ... OK * creating gaggle-Ex.R ... OK * checking examples ... OK * checking package vignettes in 'inst/doc' ... OK * creating gaggle-manual.tex ... OK * checking gaggle-manual.tex ... OK
gaggle.Rcheck/00install.out:
* Installing *source* package 'gaggle' ...
** R
** inst
** help
 >>> Building/Updating help pages for package 'gaggle'
     Formats: text html latex example 
  broadcast                         text    html    latex
  gaggleInit                        text    html    latex
  geese                             text    html    latex
  getCluster                        text    html    latex
  getHashMap                        text    html    latex
  getMatrix                         text    html    latex
  getNameList                       text    html    latex
  getNetwork                        text    html    latex
  getSpecies                        text    html    latex
  getTargetGoose                    text    html    latex
  hideGoose                         text    html    latex
  setSpecies                        text    html    latex
  setTargetGoose                    text    html    latex
  showGoose                         text    html    latex
  testGagglePackage                 text    html    latex
** building package indices ...
* DONE (gaggle)