Back to the "Multiple platform build/check report"
| Package 62/214 | Hostname | OS | Arch | BUILD | CHECK | BUILD BIN | 
| exonmap1.0.07Michal OkoniewskiLast Changed Date: 2007-08-22 06:18:04 -0700 Last Changed Rev: 26584 | lamb1 | Linux (SUSE 10.1) | x86_64 | OK | WARNINGS | |
| wellington | Linux (SUSE 9.2) | i686 | OK | ERROR | ||
| lemming | Windows Server 2003 (32-bit) | x64 | OK | WARNINGS | [ OK ] | 
| Package: exonmap | 
| Version: 1.0.07 | 
| Command: D:\biocbld\bbs-2.0-bioc\R\bin\R.exe CMD INSTALL --build --library=exonmap.buildbin-libdir exonmap_1.0.07.tar.gz | 
| RetCode: 0 | 
| Time: 19.6 seconds | 
| Status: OK | 
| PackageFile: exonmap_1.0.07.zip | 
installing R.css in D:/biocbld/bbs-2.0-bioc/meat/exonmap.buildbin-libdir
Using auto-selected zip options ' exonmap-HELP=ziponly'
---------- Making package exonmap ------------
  adding build stamp to DESCRIPTION
  installing R files
  installing inst files
  installing data files
  installing man source files
  installing indices
  not zipping data
  installing help
 >>> Building/Updating help pages for package 'exonmap'
     Formats: text html latex example chm 
  PC-class                          text    html    latex   example chm
  Splanova-class                    text    html    latex   example chm
  X.toY                             text    html    latex   example chm
  array.subset                      text    html    latex   example chm
  gene.details                      text    html    latex   example chm
  gene.legend                       text    html    latex   example chm
  gene.strip                        text    html    latex   example chm
  gene.to.exon.probeset             text    html    latex   example chm
  group.indices                     text    html    latex   example chm
  pc                                text    html    latex   example chm
  plot.gene                         text    html    latex   example chm
  plot.gene.graph                   text    html    latex   example chm
  probeset.stats                    text    html    latex   example chm
  probesets.in.range                text    html    latex   example chm
  read.exon                         text    html    latex   example chm
  select.probewise                  text    html    latex   example chm
  splanova                          text    html    latex   example chm
  splicing.index                    text    html    latex   example chm
  x.rma                             text    html    latex           chm
  xmapDatabase                      text    html    latex   example chm
  xmapGene                          text    html    latex   example chm
  zipping help files
Microsoft HTML Help Compiler 4.74.8702
Compiling d:\biocbld\bbs-2.0-bioc\meat\R.INSTALL.5312\exonmap\chm\exonmap.chm
Compile time: 0 minutes, 1 second
22	Topics
97	Local links
18	Internet links
1	Graphic
Created d:\biocbld\bbs-2.0-bioc\meat\R.INSTALL.5312\exonmap\chm\exonmap.chm, 43,700 bytes
Compression decreased file by 45,206 bytes.
  preparing package exonmap for lazy loading
Loading required package: affy
Loading required package: Biobase
Loading required package: tools
Welcome to Bioconductor
  Vignettes contain introductory material. To view, type
  'openVignette()'. To cite Bioconductor, see
  'citation("Biobase")' and for packages 'citation(pkgname)'.
Loading required package: affyio
Loading required package: simpleaffy
Loading required package: genefilter
Loading required package: survival
Loading required package: splines
Loading required package: RColorBrewer
Loading required package: RMySQL
Loading required package: DBI
Loading required package: plier
  adding MD5 sums
packaged installation of package 'exonmap' as exonmap_1.0.07.zip
* DONE (exonmap)