Back to the "Multiple platform build/check report"
| Package 52/214 | Hostname | OS | Arch | BUILD | CHECK | BUILD BIN | 
| ctc1.10.0Antoine LucasLast Changed Date: 2007-04-24 11:21:48 -0700 Last Changed Rev: 24214 | lamb1 | Linux (SUSE 10.1) | x86_64 | [ OK ] | OK | |
| wellington | Linux (SUSE 9.2) | i686 | OK | OK | ||
| lemming | Windows Server 2003 (32-bit) | x64 | OK | OK | OK | 
| Package: ctc | 
| Version: 1.10.0 | 
| Command: /home/biocbuild/bbs-2.0-bioc/R/bin/R CMD build ctc | 
| RetCode: 0 | 
| Time: 8.5 seconds | 
| Status: OK | 
| PackageFile: ctc_1.10.0.tar.gz | 
* checking for file 'ctc/DESCRIPTION' ... OK
* preparing 'ctc':
* checking DESCRIPTION meta-information ... OK
* checking whether 'INDEX' is up-to-date ... OK
* installing the package to re-build vignettes
* Installing *source* package 'ctc' ...
** R
** demo
** exec
** inst
** help
 >>> Building/Updating help pages for package 'ctc'
     Formats: text html latex example 
  hc2Newick                         text    html    latex   example
  hclust2treeview                   text    html    latex   example
  r2cluster                         text    html    latex   example
  r2gtr                             text    html    latex   example
  r2xcluster                        text    html    latex   example
  read.eisen                        text    html    latex
  xcluster                          text    html    latex   example
  xcluster2r                        text    html    latex   example
** building package indices ...
* DONE (ctc)
* creating vignettes ... OK
* removing junk files
* checking for LF line-endings in source files
* checking for empty or unneeded directories
* building 'ctc_1.10.0.tar.gz'