Back to the "Multiple platform build/check report"
| Package 46/214 | Hostname | OS | Arch | BUILD | CHECK | BUILD BIN | 
| codelink1.4.0Diego DiezLast Changed Date: 2007-04-24 11:21:48 -0700 Last Changed Rev: 24214 | lamb1 | Linux (SUSE 10.1) | x86_64 | OK | OK | |
| wellington | Linux (SUSE 9.2) | i686 | OK | OK | ||
| lemming | Windows Server 2003 (32-bit) | x64 | [ OK ] | OK | OK | 
| Package: codelink | 
| Version: 1.4.0 | 
| Command: D:\biocbld\bbs-2.0-bioc\R\bin\R.exe CMD build codelink | 
| RetCode: 0 | 
| Time: 26.5 seconds | 
| Status: OK | 
| PackageFile: codelink_1.4.0.tar.gz | 
* checking for file 'codelink/DESCRIPTION' ... OK
* preparing 'codelink':
* checking DESCRIPTION meta-information ... OK
* installing the package to re-build vignettes
installing R.css in D:/biocbld/bbs-2.0-bioc/tmpdir/Rinst612897039
---------- Making package codelink ------------
  adding build stamp to DESCRIPTION
  installing NAMESPACE file and metadata
  installing R files
  save image
Loading required package: limma
Loading required package: annotate
Loading required package: Biobase
Loading required package: tools
Welcome to Bioconductor
  Vignettes contain introductory material. To view, type
  'openVignette()'. To cite Bioconductor, see
  'citation("Biobase")' and for packages 'citation(pkgname)'.
  installing inst files
  installing data files
  preparing package codelink for lazy loading
Loading required package: limma
Loading required package: annotate
Loading required package: Biobase
Loading required package: tools
Welcome to Bioconductor
  Vignettes contain introductory material. To view, type
  'openVignette()'. To cite Bioconductor, see
  'citation("Biobase")' and for packages 'citation(pkgname)'.
  installing man source files
  installing indices
  not zipping data
  installing help
 >>> Building/Updating help pages for package 'codelink'
     Formats: text html latex example chm 
  Codelink-class                    text    html    latex   example chm
  SNR                               text    html    latex   example chm
  arrayNew                          text    html    latex   example chm
  arraySize                         text    html    latex   example chm
  as.matrix.Codelink                text    html    latex   example chm
  bkgdCorrect                       text    html    latex   example chm
  codelink.example                  text    html    latex           chm
  createWeights                     text    html    latex   example chm
  cutCV                             text    html    latex   example chm
  decDetect                         text    html    latex   example chm
  dim.Codelink                      text    html    latex   example chm
  fc2Cond                           text    html    latex   example chm
  imageCodelink                     text    html    latex   example chm
  logCodelink                       text    html    latex   example chm
  mergeArray                        text    html    latex   example chm
  na2false                          text    html    latex   example chm
  normalize                         text    html    latex   example chm
  normalize.loess                   text    html    latex   example chm
  plotCV                            text    html    latex   example chm
  plotCorrelation                   text    html    latex   example chm
  plotDensities                     text    html    latex   example chm
  plotMA                            text    html    latex   example chm
  printHead                         text    html    latex   example chm
  readCodelink                      text    html    latex   example chm
  readHeader                        text    html    latex   example chm
  readHeaderXLS                     text    html    latex   example chm
  reportCodelink                    text    html    latex   example chm
  selCV                             text    html    latex   example chm
  writeCodelink                     text    html    latex   example chm
Microsoft HTML Help Compiler 4.74.8702
Compiling d:\biocbld\bbs-2.0-bioc\meat\codelink\chm\codelink.chm
Compile time: 0 minutes, 0 seconds
30	Topics
62	Local links
0	Internet links
1	Graphic
Created d:\biocbld\bbs-2.0-bioc\meat\codelink\chm\codelink.chm, 33,937 bytes
Compression decreased file by 37,138 bytes.
  adding MD5 sums
* DONE (codelink)
* creating vignettes ... OK
* removing junk files
* checking for LF line-endings in source files
* checking for empty or unneeded directories
* building 'codelink_1.4.0.tar.gz'