Back to the "Multiple platform build/check report"
| Package 44/214 | Hostname | OS | Arch | BUILD | CHECK | BUILD BIN | 
| clusterStab1.8.0James W. MacDonaldLast Changed Date: 2007-04-24 11:21:48 -0700 Last Changed Rev: 24214 | lamb1 | Linux (SUSE 10.1) | x86_64 | OK | [ OK ] | |
| wellington | Linux (SUSE 9.2) | i686 | OK | OK | ||
| lemming | Windows Server 2003 (32-bit) | x64 | OK | OK | OK | 
| Package: clusterStab | 
| Version: 1.8.0 | 
| Command: /home/biocbuild/bbs-2.0-bioc/R/bin/R CMD check clusterStab_1.8.0.tar.gz | 
| RetCode: 0 | 
| Time: 37.6 seconds | 
| Status: OK | 
| CheckDir: clusterStab.Rcheck | 
| Warnings: 0 | 
* checking for working latex ... OK * using log directory '/home/biocbuild/bbs-2.0-bioc/meat/clusterStab.Rcheck' * using R version 2.5.1 (2007-06-27) * checking for file 'clusterStab/DESCRIPTION' ... OK * this is package 'clusterStab' version '1.8.0' * checking package dependencies ... OK * checking if this is a source package ... OK * checking whether package 'clusterStab' can be installed ... OK * checking package directory ... OK * checking for portable file names ... OK * checking for sufficient/correct file permissions ... OK * checking DESCRIPTION meta-information ... OK * checking top-level files ... OK * checking index information ... OK * checking package subdirectories ... OK * checking R files for non-ASCII characters ... OK * checking R files for syntax errors ... OK * checking whether the package can be loaded ... OK * checking whether the package can be loaded with stated dependencies ... OK * checking for unstated dependencies in R code ... OK * checking S3 generic/method consistency ... OK * checking replacement functions ... OK * checking foreign function calls ... OK * checking R code for possible problems ... OK * checking Rd files ... OK * checking Rd cross-references ... OK * checking for missing documentation entries ... OK * checking for code/documentation mismatches ... OK * checking Rd \usage sections ... OK * creating clusterStab-Ex.R ... OK * checking examples ... OK * checking package vignettes in 'inst/doc' ... OK * creating clusterStab-manual.tex ... OK * checking clusterStab-manual.tex ... OK
clusterStab.Rcheck/00install.out:
* Installing *source* package 'clusterStab' ...
** R
** inst
** save image
Loading required package: Biobase
Loading required package: tools
Welcome to Bioconductor
  Vignettes contain introductory material. To view, type
  'openVignette()'. To cite Bioconductor, see
  'citation("Biobase")' and for packages 'citation(pkgname)'.
[1] "benhur"
[1] "clusterComp"
[1] "benhur"
[1] "clusterComp"
[1] "show"
[1] "hist"
[1] "ecdf"
[1] "benhur"
[1] "benhur"
[1] "benhur"
[1] "show"
[1] "hist"
[1] "ecdf"
[1] "clusterComp"
[1] "clusterComp"
[1] "clusterComp"
[1] "show"
** preparing package for lazy loading
Loading required package: Biobase
Loading required package: tools
Welcome to Bioconductor
  Vignettes contain introductory material. To view, type
  'openVignette()'. To cite Bioconductor, see
  'citation("Biobase")' and for packages 'citation(pkgname)'.
** help
 >>> Building/Updating help pages for package 'clusterStab'
     Formats: text html latex example 
  benhur-class                      text    html    latex
  benhur                            text    html    latex   example
  clusterComp-class                 text    html    latex
  clusterComp                       text    html    latex   example
** building package indices ...
* DONE (clusterStab)