Back to the "Multiple platform build/check report"
| Package 31/214 | Hostname | OS | Arch | BUILD | CHECK | BUILD BIN | 
| bioDist1.8.0Biocore TeamLast Changed Date: 2007-04-24 11:21:48 -0700 Last Changed Rev: 24214 | lamb1 | Linux (SUSE 10.1) | x86_64 | OK | OK | |
| wellington | Linux (SUSE 9.2) | i686 | OK | OK | ||
| lemming | Windows Server 2003 (32-bit) | x64 | OK | OK | [ OK ] | 
| Package: bioDist | 
| Version: 1.8.0 | 
| Command: D:\biocbld\bbs-2.0-bioc\R\bin\R.exe CMD INSTALL --build --library=bioDist.buildbin-libdir bioDist_1.8.0.tar.gz | 
| RetCode: 0 | 
| Time: 9.5 seconds | 
| Status: OK | 
| PackageFile: bioDist_1.8.0.zip | 
installing R.css in D:/biocbld/bbs-2.0-bioc/meat/bioDist.buildbin-libdir
Using auto-selected zip options ''
---------- Making package bioDist ------------
  adding build stamp to DESCRIPTION
  installing NAMESPACE file and metadata
  installing R files
  installing man source files
  installing indices
  installing help
 >>> Building/Updating help pages for package 'bioDist'
     Formats: text html latex example chm 
  KLD.matrix                        text    html    latex   example chm
  KLdist.matrix                     text    html    latex   example chm
  closest.top                       text    html    latex   example chm
  cor.dist                          text    html    latex   example chm
  euc                               text    html    latex   example chm
  man                               text    html    latex   example chm
  mutualInfo                        text    html    latex   example chm
  spearman.dist                     text    html    latex   example chm
  tau.dist                          text    html    latex   example chm
Microsoft HTML Help Compiler 4.74.8702
Compiling d:\biocbld\bbs-2.0-bioc\meat\R.INSTALL.5600\bioDist\chm\bioDist.chm
Compile time: 0 minutes, 0 seconds
10	Topics
103	Local links
0	Internet links
1	Graphic
Created d:\biocbld\bbs-2.0-bioc\meat\R.INSTALL.5600\bioDist\chm\bioDist.chm, 22,936 bytes
Compression decreased file by 16,198 bytes.
  adding MD5 sums
packaged installation of package 'bioDist' as bioDist_1.8.0.zip
* DONE (bioDist)