Back to the "Multiple platform build/check report"
| Package 10/214 | Hostname | OS | Arch | BUILD | CHECK | BUILD BIN | 
| affylmGUI1.10.4Keith SatterleyLast Changed Date: 2007-06-25 06:28:05 -0700 Last Changed Rev: 25541 | lamb1 | Linux (SUSE 10.1) | x86_64 | OK | OK | |
| wellington | Linux (SUSE 9.2) | i686 | OK | OK | ||
| lemming | Windows Server 2003 (32-bit) | x64 | OK | OK | [ OK ] | 
| Package: affylmGUI | 
| Version: 1.10.4 | 
| Command: D:\biocbld\bbs-2.0-bioc\R\bin\R.exe CMD INSTALL --build --library=affylmGUI.buildbin-libdir affylmGUI_1.10.4.tar.gz | 
| RetCode: 0 | 
| Time: 13.3 seconds | 
| Status: OK | 
| PackageFile: affylmGUI_1.10.4.zip | 
installing R.css in D:/biocbld/bbs-2.0-bioc/meat/affylmGUI.buildbin-libdir
Using auto-selected zip options ''
---------- Making package affylmGUI ------------
  adding build stamp to DESCRIPTION
  installing R files
  installing inst files
  installing man source files
  installing indices
  installing help
 >>> Building/Updating help pages for package 'affylmGUI'
     Formats: text html latex example chm 
  ALGchangeLog                      text    html    latex           chm
  affylmGUI                         text    html    latex           chm
Microsoft HTML Help Compiler 4.74.8702
Compiling d:\biocbld\bbs-2.0-bioc\meat\R.INSTALL.3000\affylmGUI\chm\affylmGUI.chm
Compile time: 0 minutes, 0 seconds
3	Topics
111	Local links
0	Internet links
1	Graphic
Created d:\biocbld\bbs-2.0-bioc\meat\R.INSTALL.3000\affylmGUI\chm\affylmGUI.chm, 25,034 bytes
Compression decreased file by 28,846 bytes.
  preparing package affylmGUI for lazy loading
Loading required package: limma
Loading required package: tcltk
Loading Tcl/Tk interface ... done
Loading required package: affy
Loading required package: Biobase
Loading required package: tools
Welcome to Bioconductor
  Vignettes contain introductory material. To view, type
  'openVignette()'. To cite Bioconductor, see
  'citation("Biobase")' and for packages 'citation(pkgname)'.
Loading required package: affyio
  adding MD5 sums
packaged installation of package 'affylmGUI' as affylmGUI_1.10.4.zip
* DONE (affylmGUI)