Back to the "Multiple platform build/check report"
| Package 194/214 | Hostname | OS | Arch | BUILD | CHECK | BUILD BIN | 
| SLqPCR1.2.0Matthias KohlLast Changed Date: 2007-04-24 11:21:48 -0700 Last Changed Rev: 24214 | lamb1 | Linux (SUSE 10.1) | x86_64 | OK | OK | |
| wellington | Linux (SUSE 9.2) | i686 | OK | OK | ||
| lemming | Windows Server 2003 (32-bit) | x64 | OK | OK | [ OK ] | 
| Package: SLqPCR | 
| Version: 1.2.0 | 
| Command: D:\biocbld\bbs-2.0-bioc\R\bin\R.exe CMD INSTALL --build --library=SLqPCR.buildbin-libdir SLqPCR_1.2.0.tar.gz | 
| RetCode: 0 | 
| Time: 16.2 seconds | 
| Status: OK | 
| PackageFile: SLqPCR_1.2.0.zip | 
installing R.css in D:/biocbld/bbs-2.0-bioc/meat/SLqPCR.buildbin-libdir
Using auto-selected zip options ''
---------- Making package SLqPCR ------------
  adding build stamp to DESCRIPTION
  installing R files
  installing inst files
  installing data files
  installing man source files
  installing indices
  not zipping data
  installing help
 >>> Building/Updating help pages for package 'SLqPCR'
     Formats: text html latex example chm 
  SLqPCR-package                    text    html    latex           chm
  SLqPCRdata                        text    html    latex   example chm
  geneStabM                         text    html    latex           chm
  geomMean                          text    html    latex           chm
  normPCR                           text    html    latex   example chm
  relQuantPCR                       text    html    latex           chm
  selectHKgenes                     text    html    latex   example chm
  vandesompele                      text    html    latex   example chm
Microsoft HTML Help Compiler 4.74.8702
Compiling d:\biocbld\bbs-2.0-bioc\meat\R.INSTALL.4628\SLqPCR\chm\SLqPCR.chm
Compile time: 0 minutes, 0 seconds
9	Topics
17	Local links
8	Internet links
1	Graphic
Created d:\biocbld\bbs-2.0-bioc\meat\R.INSTALL.4628\SLqPCR\chm\SLqPCR.chm, 24,135 bytes
Compression decreased file by 3,375 bytes.
  adding MD5 sums
packaged installation of package 'SLqPCR' as SLqPCR_1.2.0.zip
* DONE (SLqPCR)