Back to the "Multiple platform build/check report"
| Package 169/214 | Hostname | OS | Arch | BUILD | CHECK | BUILD BIN |
RefPlus1.4.0Kai-Ming ChangLast Changed Date: 2007-04-24 11:21:48 -0700 Last Changed Rev: 24214 | lamb1 | Linux (SUSE 10.1) | x86_64 | OK | OK | |
| wellington | Linux (SUSE 9.2) | i686 | OK | OK | ||
| lemming | Windows Server 2003 (32-bit) | x64 | OK | OK | [ OK ] |
| Package: RefPlus |
| Version: 1.4.0 |
| Command: D:\biocbld\bbs-2.0-bioc\R\bin\R.exe CMD INSTALL --build --library=RefPlus.buildbin-libdir RefPlus_1.4.0.tar.gz |
| RetCode: 0 |
| Time: 11.5 seconds |
| Status: OK |
| PackageFile: RefPlus_1.4.0.zip |
installing R.css in D:/biocbld/bbs-2.0-bioc/meat/RefPlus.buildbin-libdir
Using auto-selected zip options ''
---------- Making package RefPlus ------------
adding build stamp to DESCRIPTION
installing R files
installing inst files
installing man source files
installing indices
installing help
>>> Building/Updating help pages for package 'RefPlus'
Formats: text html latex example chm
RefPlus-package text html latex example chm
colMedians text html latex example chm
normalize.quantiles2 text html latex example chm
rma.para text html latex example chm
rmaplus text html latex example chm
rmaref.predict text html latex example chm
Microsoft HTML Help Compiler 4.74.8702
Compiling d:\biocbld\bbs-2.0-bioc\meat\R.INSTALL.488\RefPlus\chm\RefPlus.chm
Compile time: 0 minutes, 0 seconds
7 Topics
19 Local links
0 Internet links
1 Graphic
Created d:\biocbld\bbs-2.0-bioc\meat\R.INSTALL.488\RefPlus\chm\RefPlus.chm, 21,044 bytes
Compression decreased file by 1,931 bytes.
adding MD5 sums
packaged installation of package 'RefPlus' as RefPlus_1.4.0.zip
* DONE (RefPlus)