Back to the "Multiple platform build/check report"
| Package 176/214 | Hostname | OS | Arch | BUILD | CHECK | BUILD BIN | 
| RMAPPER1.6.0VJ CareyLast Changed Date: 2007-04-24 11:21:48 -0700 Last Changed Rev: 24214 | lamb1 | Linux (SUSE 10.1) | x86_64 | OK | [ OK ] | |
| wellington | Linux (SUSE 9.2) | i686 | OK | OK | ||
| lemming | Windows Server 2003 (32-bit) | x64 | OK | OK | OK | 
| Package: RMAPPER | 
| Version: 1.6.0 | 
| Command: /home/biocbuild/bbs-2.0-bioc/R/bin/R CMD check RMAPPER_1.6.0.tar.gz | 
| RetCode: 0 | 
| Time: 11.5 seconds | 
| Status: OK | 
| CheckDir: RMAPPER.Rcheck | 
| Warnings: 0 | 
* checking for working latex ... OK * using log directory '/home/biocbuild/bbs-2.0-bioc/meat/RMAPPER.Rcheck' * using R version 2.5.1 (2007-06-27) * checking for file 'RMAPPER/DESCRIPTION' ... OK * this is package 'RMAPPER' version '1.6.0' * checking package dependencies ... OK * checking if this is a source package ... OK * checking whether package 'RMAPPER' can be installed ... OK * checking package directory ... OK * checking for portable file names ... OK * checking for sufficient/correct file permissions ... OK * checking DESCRIPTION meta-information ... OK * checking top-level files ... OK * checking index information ... OK * checking package subdirectories ... OK * checking R files for non-ASCII characters ... OK * checking R files for syntax errors ... OK * checking whether the package can be loaded ... OK * checking whether the package can be loaded with stated dependencies ... OK * checking for unstated dependencies in R code ... OK * checking S3 generic/method consistency ... OK * checking replacement functions ... OK * checking foreign function calls ... OK * checking R code for possible problems ... OK * checking Rd files ... OK * checking Rd cross-references ... OK * checking for missing documentation entries ... OK * checking for code/documentation mismatches ... OK * checking Rd \usage sections ... OK * creating RMAPPER-Ex.R ... OK * checking examples ... OK * creating RMAPPER-manual.tex ... OK * checking RMAPPER-manual.tex ... OK
RMAPPER.Rcheck/00install.out:
* Installing *source* package 'RMAPPER' ...
** R
** inst
** help
 >>> Building/Updating help pages for package 'RMAPPER'
     Formats: text html latex example 
  mapperHits-class                  text    html    latex   example
  readMapper                        text    html    latex   example
** building package indices ...
* DONE (RMAPPER)