Back to the "Multiple platform build/check report"
| Package 157/214 | Hostname | OS | Arch | BUILD | CHECK | BUILD BIN | 
| PROcess1.12.0Xiaochun LiLast Changed Date: 2007-04-24 11:21:48 -0700 Last Changed Rev: 24214 | lamb1 | Linux (SUSE 10.1) | x86_64 | OK | OK | |
| wellington | Linux (SUSE 9.2) | i686 | OK | OK | ||
| lemming | Windows Server 2003 (32-bit) | x64 | OK | [ OK ] | OK | 
| Package: PROcess | 
| Version: 1.12.0 | 
| Command: D:\biocbld\bbs-2.0-bioc\R\bin\R.exe CMD check PROcess_1.12.0.tar.gz | 
| RetCode: 0 | 
| Time: 188.0 seconds | 
| Status: OK | 
| CheckDir: PROcess.Rcheck | 
| Warnings: 0 | 
* checking for working latex ... OK * using log directory 'D:/biocbld/bbs-2.0-bioc/meat/PROcess.Rcheck' * using R version 2.5.1 (2007-06-27) * checking for file 'PROcess/DESCRIPTION' ... OK * this is package 'PROcess' version '1.12.0' * checking package dependencies ... OK * checking if this is a source package ... OK * checking whether package 'PROcess' can be installed ... OK * checking package directory ... OK * checking for portable file names ... OK * checking DESCRIPTION meta-information ... OK * checking top-level files ... OK * checking index information ... OK * checking package subdirectories ... OK * checking R files for non-ASCII characters ... OK * checking R files for syntax errors ... OK * checking whether the package can be loaded ... OK * checking whether the package can be loaded with stated dependencies ... OK * checking whether the name space can be loaded with stated dependencies ... OK * checking for unstated dependencies in R code ... OK * checking S3 generic/method consistency ... OK * checking replacement functions ... OK * checking foreign function calls ... OK * checking R code for possible problems ... OK * checking Rd files ... OK * checking Rd cross-references ... OK * checking for missing documentation entries ... OK * checking for code/documentation mismatches ... OK * checking Rd \usage sections ... OK * creating PROcess-Ex.R ... OK * checking examples ... OK * checking package vignettes in 'inst/doc' ... OK * creating PROcess-manual.tex ... OK * checking PROcess-manual.tex ... OK
PROcess.Rcheck/00install.out:
installing R.css in D:/biocbld/bbs-2.0-bioc/meat/PROcess.Rcheck
---------- Making package PROcess ------------
  adding build stamp to DESCRIPTION
  installing NAMESPACE file and metadata
  installing R files
  save image
Loading required package: Icens
Loading required package: survival
Loading required package: splines
  installing inst files
  installing man source files
  installing indices
  installing help
 >>> Building/Updating help pages for package 'PROcess'
     Formats: text html latex example chm 
  align                             text    html    latex           chm
  aveSpec                           text    html    latex   example chm
  avesd                             text    html    latex           chm
  binning                           text    html    latex           chm
  bslnoff                           text    html    latex   example chm
  gelmap                            text    html    latex           chm
  getMzs                            text    html    latex           chm
  getPeaks                          text    html    latex   example chm
  getPeaks2                         text    html    latex           chm
  intg                              text    html    latex   example chm
  is.multiple                       text    html    latex   example chm
  isPeak                            text    html    latex   example chm
  lnn                               text    html    latex           chm
  peaks                             text    html    latex   example chm
  pk2bmkr                           text    html    latex   example chm
  quality                           text    html    latex   example chm
  read.files                        text    html    latex           chm
  renorm                            text    html    latex   example chm
  rmBaseline                        text    html    latex   example chm
  specZoom                          text    html    latex   example chm
Microsoft HTML Help Compiler 4.74.8702
Compiling d:\biocbld\bbs-2.0-bioc\meat\PROcess.Rcheck\00_pkg_src\PROcess\chm\PROcess.chm
Compile time: 0 minutes, 0 seconds
21	Topics
47	Local links
0	Internet links
1	Graphic
Created d:\biocbld\bbs-2.0-bioc\meat\PROcess.Rcheck\00_pkg_src\PROcess\chm\PROcess.chm, 33,774 bytes
Compression decreased file by 17,292 bytes.
  adding MD5 sums
* DONE (PROcess)