Back to the "Multiple platform build/check report"
| Package 82/214 | Hostname | OS | Arch | BUILD | CHECK | BUILD BIN | 
| GEOquery2.0.6Sean DavisLast Changed Date: 2007-08-08 17:40:45 -0700 Last Changed Rev: 26237 | lamb1 | Linux (SUSE 10.1) | x86_64 | OK | [ OK ] | |
| wellington | Linux (SUSE 9.2) | i686 | OK | OK | ||
| lemming | Windows Server 2003 (32-bit) | x64 | OK | OK | OK | 
| Package: GEOquery | 
| Version: 2.0.6 | 
| Command: /home/biocbuild/bbs-2.0-bioc/R/bin/R CMD check GEOquery_2.0.6.tar.gz | 
| RetCode: 0 | 
| Time: 55.6 seconds | 
| Status: OK | 
| CheckDir: GEOquery.Rcheck | 
| Warnings: 0 | 
* checking for working latex ... OK * using log directory '/home/biocbuild/bbs-2.0-bioc/meat/GEOquery.Rcheck' * using R version 2.5.1 (2007-06-27) * checking for file 'GEOquery/DESCRIPTION' ... OK * checking extension type ... Package * this is package 'GEOquery' version '2.0.6' * checking package dependencies ... OK * checking if this is a source package ... OK * checking whether package 'GEOquery' can be installed ... OK * checking package directory ... OK * checking for portable file names ... OK * checking for sufficient/correct file permissions ... OK * checking DESCRIPTION meta-information ... OK * checking top-level files ... OK * checking index information ... OK * checking package subdirectories ... OK * checking R files for non-ASCII characters ... OK * checking R files for syntax errors ... OK * checking whether the package can be loaded ... OK * checking whether the package can be loaded with stated dependencies ... OK * checking whether the name space can be loaded with stated dependencies ... OK * checking for unstated dependencies in R code ... OK * checking S3 generic/method consistency ... OK * checking replacement functions ... OK * checking foreign function calls ... OK * checking R code for possible problems ... OK * checking Rd files ... OK * checking Rd cross-references ... OK * checking for missing documentation entries ... OK * checking for code/documentation mismatches ... OK * checking Rd \usage sections ... OK * creating GEOquery-Ex.R ... OK * checking examples ... OK * checking package vignettes in 'inst/doc' ... OK * creating GEOquery-manual.tex ... OK * checking GEOquery-manual.tex ... OK
GEOquery.Rcheck/00install.out:
* Installing *source* package 'GEOquery' ...
** R
** inst
** help
 >>> Building/Updating help pages for package 'GEOquery'
     Formats: text html latex example 
  GDS-class                         text    html    latex
  GDS2MA                            text    html    latex   example
  GEOData-class                     text    html    latex
  GEODataTable-class                text    html    latex
  GPL-class                         text    html    latex
  GSE-class                         text    html    latex
  GSM-class                         text    html    latex
  dataTable                         text    html    latex
  getGEO                            text    html    latex   example
  getGEOfile                        text    html    latex   example
  parseGEO                          text    html    latex
** building package indices ...
* DONE (GEOquery)