Back to the "Multiple platform build/check report"
| Package 56/214 | Hostname | OS | Arch | BUILD | CHECK | BUILD BIN | 
| DNAcopy1.10.0E. S. VenkatramanLast Changed Date: 2007-04-24 11:21:48 -0700 Last Changed Rev: 24214 | lamb1 | Linux (SUSE 10.1) | x86_64 | OK | OK | |
| wellington | Linux (SUSE 9.2) | i686 | OK | OK | ||
| lemming | Windows Server 2003 (32-bit) | x64 | OK | OK | [ OK ] | 
| Package: DNAcopy | 
| Version: 1.10.0 | 
| Command: D:\biocbld\bbs-2.0-bioc\R\bin\R.exe CMD INSTALL --build --library=DNAcopy.buildbin-libdir DNAcopy_1.10.0.tar.gz | 
| RetCode: 0 | 
| Time: 13.0 seconds | 
| Status: OK | 
| PackageFile: DNAcopy_1.10.0.zip | 
installing R.css in D:/biocbld/bbs-2.0-bioc/meat/DNAcopy.buildbin-libdir
Using auto-selected zip options 'DNAcopy-ZIPDATA=zip'
---------- Making package DNAcopy ------------
  adding build stamp to DESCRIPTION
  making DLL ...
making flchoose.d from flchoose.c
making fphyper.d from fphyper.c
making fpnorm.d from fpnorm.c
making rshared.d from rshared.c
gcc   -ID:/biocbld/bbs-2.0-bioc/R/include  -Wall -O3 -std=gnu99   -c flchoose.c -o flchoose.o
gcc   -ID:/biocbld/bbs-2.0-bioc/R/include  -Wall -O3 -std=gnu99   -c fphyper.c -o fphyper.o
gcc   -ID:/biocbld/bbs-2.0-bioc/R/include  -Wall -O3 -std=gnu99   -c fpnorm.c -o fpnorm.o
gcc   -ID:/biocbld/bbs-2.0-bioc/R/include  -Wall -O3 -std=gnu99   -c rshared.c -o rshared.o
g77 -O3 -Wall   -c changepoints.f -o changepoints.o
changepoints.f: In subroutine `tmax1':
In file included from changepoints.f:0:
changepoints.f:175: warning: 'sxmxi' might be used uninitialized in this function
changepoints.f:175: warning: 'wtmxi' might be used uninitialized in this function
changepoints.f:175: warning: 'wtmxj' might be used uninitialized in this function
g77 -O3 -Wall   -c getbdry.f -o getbdry.o
getbdry.f: In subroutine `getbdry':
In file included from getbdry.f:0:
getbdry.f:6: warning: unused variable 'k'
getbdry.f:6: warning: unused variable 'i'
g77 -O3 -Wall   -c hybcpt.f -o hybcpt.o
g77 -O3 -Wall   -c prune.f -o prune.o
windres -I D:/biocbld/bbs-2.0-bioc/R/include  -i DNAcopy_res.rc -o DNAcopy_res.o
gcc  -shared -s  -o DNAcopy.dll DNAcopy.def flchoose.o fphyper.o fpnorm.o rshared.o changepoints.o getbdry.o hybcpt.o prune.o DNAcopy_res.o  -LD:/biocbld/bbs-2.0-bioc/R/bin   -lg2c -lR
  ... DLL made
  installing DLL
  installing R files
  installing demos
  installing inst files
  installing data files
  preparing package DNAcopy for lazy data loading
  installing man source files
  installing indices
  installing help
 >>> Building/Updating help pages for package 'DNAcopy'
     Formats: text html latex example chm 
  CNA                               text    html    latex   example chm
  DNAcopy-internal                  text    html    latex           chm
  DNAcopy                           text    html    latex           chm
  coriell                           text    html    latex           chm
  cytoBand                          text    html    latex           chm
  getbdry                           text    html    latex           chm
  plot.DNAcopy                      text    html    latex   example chm
  segment                           text    html    latex   example chm
  smooth.CNA                        text    html    latex   example chm
  subset.CNA                        text    html    latex   example chm
  subset.DNAcopy                    text    html    latex           chm
Microsoft HTML Help Compiler 4.74.8702
Compiling d:\biocbld\bbs-2.0-bioc\meat\R.INSTALL.2700\DNAcopy\chm\DNAcopy.chm
Compile time: 0 minutes, 0 seconds
12	Topics
24	Local links
1	Internet link
1	Graphic
Created d:\biocbld\bbs-2.0-bioc\meat\R.INSTALL.2700\DNAcopy\chm\DNAcopy.chm, 32,100 bytes
Compression decreased file by 9,311 bytes.
  adding MD5 sums
packaged installation of package 'DNAcopy' as DNAcopy_1.10.0.zip
* DONE (DNAcopy)