Back to the "Multiple platform build/check report"
| Package 49/214 | Hostname | OS | Arch | BUILD | CHECK | BUILD BIN | 
| CORREP1.2.0Dongxiao ZhuLast Changed Date: 2007-04-24 11:21:48 -0700 Last Changed Rev: 24214 | lamb1 | Linux (SUSE 10.1) | x86_64 | [ OK ] | OK | |
| wellington | Linux (SUSE 9.2) | i686 | OK | OK | ||
| lemming | Windows Server 2003 (32-bit) | x64 | OK | OK | OK | 
| Package: CORREP | 
| Version: 1.2.0 | 
| Command: /home/biocbuild/bbs-2.0-bioc/R/bin/R CMD build CORREP | 
| RetCode: 0 | 
| Time: 28.5 seconds | 
| Status: OK | 
| PackageFile: CORREP_1.2.0.tar.gz | 
* checking for file 'CORREP/DESCRIPTION' ... OK
* preparing 'CORREP':
* checking DESCRIPTION meta-information ... OK
* installing the package to re-build vignettes
* Installing *source* package 'CORREP' ...
** R
** data
** inst
** help
 >>> Building/Updating help pages for package 'CORREP'
     Formats: text html latex example 
  CORREP-package                    text    html    latex   example
  cor.LRtest                        text    html    latex   example
  cor.LRtest.std                    text    html    latex   example
  cor.balance                       text    html    latex   example
  cor.bootci                        text    html    latex   example
  cor.unbalance                     text    html    latex   example
  gal_all                           text    html    latex   example
  permutest                         text    html    latex   example
  true.member                       text    html    latex   example
** building package indices ...
* DONE (CORREP)
* creating vignettes ... OK
* removing junk files
* checking for LF line-endings in source files
* checking for empty or unneeded directories
* building 'CORREP_1.2.0.tar.gz'