| 1.4.0Alexander Ploner | Linux (SUSE 9.2) | x86_64 | OK | OK |  | 
| Linux (SUSE 9.2) | i686 | OK | OK |  | 
| Solaris 2.9 | sparc | OK | OK |  | 
| Windows Server 2003 | x86_64 | [ OK ] | OK | OK | 
* checking for file 'maCorrPlot/DESCRIPTION' ... OK
* preparing 'maCorrPlot':
* checking DESCRIPTION meta-information ... OK
* installing the package to re-build vignettes
installing R.css in D:/biocbld/1.9d/tmpdir/Rinst331621331
---------- Making package maCorrPlot ------------
  adding build stamp to DESCRIPTION
  installing R files
  installing inst files
  installing data files
  installing man source files
  installing indices
  not zipping data
  installing help
 >>> Building/Updating help pages for package 'maCorrPlot'
     Formats: text html latex example chm 
  CorrSample                        text    html    latex   example chm
  CutCI                             text    html    latex   example chm
  oligodata                         text    html    latex   example chm
  plot.corr.sample                  text    html    latex   example chm
Microsoft HTML Help Compiler 4.74.8702
Compiling d:\biocbld\1.9d\Rpacks\maCorrPlot\chm\maCorrPlot.chm
Compile time: 0 minutes, 0 seconds
5	Topics
22	Local links
2	Internet links
1	Graphic
Created d:\biocbld\1.9d\Rpacks\maCorrPlot\chm\maCorrPlot.chm, 27,751 bytes
Compression decreased file by 1,260 bytes.
  adding MD5 sums
* DONE (maCorrPlot)
* creating vignettes ... OK
* removing junk files
* checking for LF line-endings in source files
* checking for empty or unneeded directories
* building 'maCorrPlot_1.4.0.tar.gz'