1.10.0A. Paquet | Linux (SUSE 9.2)  | x86_64 |  OK  |  OK  |  | 
| Linux (SUSE 9.2)  | i686 |  OK  |  OK  |  | 
| Solaris 2.9  | sparc |  OK  |  OK  |  | 
| Windows Server 2003  | x86_64 | [ OK ] |  OK  |  OK  | 
* checking for file 'arrayQuality/DESCRIPTION' ... OK
* preparing 'arrayQuality':
* checking DESCRIPTION meta-information ... OK
* checking whether 'INDEX' is up-to-date ... NO
* use '--force' to overwrite the existing 'INDEX'
* removing junk files
* checking for LF line-endings in source files
* checking for empty or unneeded directories
* building 'arrayQuality_1.10.0.tar.gz'