Package: sequencing Version: 1.34.0 Command: /home/biocbuild/bbs-3.22-bioc/R/bin/R CMD INSTALL sequencing StartedAt: 2025-11-04 13:00:23 -0500 (Tue, 04 Nov 2025) EndedAt: 2025-11-04 13:00:54 -0500 (Tue, 04 Nov 2025) EllapsedTime: 31.3 seconds RetCode: 0 Status: OK