Package: sequencing Version: 1.34.0 Command: /home/biocbuild/bbs-3.22-bioc/R/bin/R CMD build --keep-empty-dirs --no-resave-data sequencing StartedAt: 2025-11-04 13:11:13 -0500 (Tue, 04 Nov 2025) EndedAt: 2025-11-04 13:12:22 -0500 (Tue, 04 Nov 2025) EllapsedTime: 69.0 seconds RetCode: 0 Status: OK PackageFile: sequencing_1.34.0.tar.gz PackageFileSize: 403.5 KiB