Package: sequencing Version: 1.34.0 Command: /Library/Frameworks/R.framework/Resources/bin/R CMD INSTALL sequencing StartedAt: 2025-11-04 13:01:18 -0500 (Tue, 04 Nov 2025) EndedAt: 2025-11-04 13:01:44 -0500 (Tue, 04 Nov 2025) EllapsedTime: 25.3 seconds RetCode: 0 Status: OK