Package: rnaseqGene Version: 1.34.0 Command: /home/biocbuild/bbs-3.22-bioc/R/bin/R CMD build --keep-empty-dirs --no-resave-data rnaseqGene StartedAt: 2025-11-04 13:10:11 -0500 (Tue, 04 Nov 2025) EndedAt: 2025-11-04 13:13:04 -0500 (Tue, 04 Nov 2025) EllapsedTime: 173.1 seconds RetCode: 0 Status: OK PackageFile: rnaseqGene_1.34.0.tar.gz PackageFileSize: 1.531 MiB