Package: methylationArrayAnalysis Version: 1.34.0 Command: /home/biocbuild/bbs-3.22-bioc/R/bin/R CMD build --keep-empty-dirs --no-resave-data methylationArrayAnalysis StartedAt: 2025-11-04 13:06:53 -0500 (Tue, 04 Nov 2025) EndedAt: 2025-11-04 13:19:50 -0500 (Tue, 04 Nov 2025) EllapsedTime: 777.7 seconds RetCode: 0 Status: OK PackageFile: methylationArrayAnalysis_1.34.0.tar.gz PackageFileSize: 218.6 MiB