Package: methylationArrayAnalysis Version: 1.32.0 Command: /home/biocbuild/bbs-3.21-bioc/R/bin/R CMD INSTALL methylationArrayAnalysis StartedAt: 2025-10-10 13:00:44 -0400 (Fri, 10 Oct 2025) EndedAt: 2025-10-10 13:04:07 -0400 (Fri, 10 Oct 2025) EllapsedTime: 203.6 seconds RetCode: 0 Status: OK