Package: methylationArrayAnalysis Version: 1.32.0 Command: /home/biocbuild/bbs-3.21-bioc/R/bin/R CMD build --keep-empty-dirs --no-resave-data methylationArrayAnalysis StartedAt: 2025-10-10 13:06:07 -0400 (Fri, 10 Oct 2025) EndedAt: 2025-10-10 13:18:15 -0400 (Fri, 10 Oct 2025) EllapsedTime: 728.2 seconds RetCode: 0 Status: OK PackageFile: methylationArrayAnalysis_1.32.0.tar.gz PackageFileSize: 218.6 MiB