Package: fluentGenomics Version: 1.22.0 Command: /home/biocbuild/bbs-3.22-bioc/R/bin/R CMD build --keep-empty-dirs --no-resave-data fluentGenomics StartedAt: 2025-11-04 13:05:02 -0500 (Tue, 04 Nov 2025) EndedAt: 2025-11-04 13:08:32 -0500 (Tue, 04 Nov 2025) EllapsedTime: 210.1 seconds RetCode: 0 Status: OK PackageFile: fluentGenomics_1.22.0.tar.gz PackageFileSize: 5.457 MiB