Package: fluentGenomics Version: 1.21.0 Command: /Library/Frameworks/R.framework/Resources/bin/R CMD INSTALL fluentGenomics StartedAt: 2025-10-28 13:00:23 -0400 (Tue, 28 Oct 2025) EndedAt: 2025-10-28 13:00:53 -0400 (Tue, 28 Oct 2025) EllapsedTime: 29.9 seconds RetCode: 0 Status: OK