Package: fluentGenomics Version: 1.21.0 Command: /Library/Frameworks/R.framework/Resources/bin/R CMD build --keep-empty-dirs --no-resave-data fluentGenomics StartedAt: 2025-10-28 13:03:50 -0400 (Tue, 28 Oct 2025) EndedAt: 2025-10-28 13:06:54 -0400 (Tue, 28 Oct 2025) EllapsedTime: 184.3 seconds RetCode: 0 Status: OK PackageFile: fluentGenomics_1.21.0.tar.gz PackageFileSize: 5.489 MiB