Package: fluentGenomics Version: 1.22.0 Maintainer: Stuart Lee MaintainerEmail: stuart.andrew.lee at gmail.com git_url: https://git.bioconductor.org/packages/fluentGenomics git_branch: RELEASE_3_22 git_last_commit: 9eedd5f git_last_commit_date: 2025-10-29 09:47:28 -0500 (Wed, 29 Oct 2025)