Package: csawUsersGuide Version: 1.24.0 Command: /Library/Frameworks/R.framework/Resources/bin/R CMD INSTALL csawUsersGuide StartedAt: 2025-10-07 13:00:22 -0400 (Tue, 07 Oct 2025) EndedAt: 2025-10-07 13:00:35 -0400 (Tue, 07 Oct 2025) EllapsedTime: 13.2 seconds RetCode: 0 Status: OK