Package: csawUsersGuide Version: 1.24.0 Command: /Library/Frameworks/R.framework/Resources/bin/R CMD build --keep-empty-dirs --no-resave-data csawUsersGuide StartedAt: 2025-10-07 13:10:40 -0400 (Tue, 07 Oct 2025) EndedAt: 2025-10-07 13:10:57 -0400 (Tue, 07 Oct 2025) EllapsedTime: 17.4 seconds RetCode: 0 Status: OK PackageFile: csawUsersGuide_1.24.0.tar.gz PackageFileSize: 35.76 KiB