Package: arrays Version: 1.36.0 Command: /home/biocbuild/bbs-3.22-bioc/R/bin/R CMD INSTALL arrays StartedAt: 2025-11-04 13:00:18 -0500 (Tue, 04 Nov 2025) EndedAt: 2025-11-04 13:00:23 -0500 (Tue, 04 Nov 2025) EllapsedTime: 4.6 seconds RetCode: 0 Status: OK