Package: arrays Version: 1.34.0 Command: /Library/Frameworks/R.framework/Resources/bin/R CMD build --keep-empty-dirs --no-resave-data arrays StartedAt: 2025-10-07 13:10:40 -0400 (Tue, 07 Oct 2025) EndedAt: 2025-10-07 13:11:42 -0400 (Tue, 07 Oct 2025) EllapsedTime: 62.1 seconds RetCode: 0 Status: OK PackageFile: arrays_1.34.0.tar.gz PackageFileSize: 9.64 MiB