Package: annotation Version: 1.34.0 Command: /home/biocbuild/bbs-3.22-bioc/R/bin/R CMD build --keep-empty-dirs --no-resave-data annotation StartedAt: 2025-11-04 13:04:57 -0500 (Tue, 04 Nov 2025) EndedAt: 2025-11-04 13:11:10 -0500 (Tue, 04 Nov 2025) EllapsedTime: 373.2 seconds RetCode: 0 Status: OK PackageFile: annotation_1.34.0.tar.gz PackageFileSize: 879.2 KiB