Package: TCGAWorkflow Version: 1.34.0 Command: /home/biocbuild/bbs-3.22-bioc/R/bin/R CMD INSTALL TCGAWorkflow StartedAt: 2025-11-04 13:04:46 -0500 (Tue, 04 Nov 2025) EndedAt: 2025-11-04 13:04:46 -0500 (Tue, 04 Nov 2025) EllapsedTime: 0.2 seconds RetCode: 1 Status: ERROR