Package: TCGAWorkflow Version: 1.34.0 Command: /Library/Frameworks/R.framework/Resources/bin/R CMD INSTALL TCGAWorkflow StartedAt: 2025-11-04 13:01:44 -0500 (Tue, 04 Nov 2025) EndedAt: 2025-11-04 13:02:36 -0500 (Tue, 04 Nov 2025) EllapsedTime: 52.5 seconds RetCode: 0 Status: OK