Package: TCGAWorkflow Version: 1.34.0 Command: /Library/Frameworks/R.framework/Resources/bin/R CMD build --keep-empty-dirs --no-resave-data TCGAWorkflow StartedAt: 2025-11-04 13:11:25 -0500 (Tue, 04 Nov 2025) EndedAt: 2025-11-04 13:17:22 -0500 (Tue, 04 Nov 2025) EllapsedTime: 357.2 seconds RetCode: 1 Status: ERROR PackageFile: None PackageFileSize: NA