Package: SingscoreAMLMutations Version: 1.26.0 Command: /home/biocbuild/bbs-3.22-bioc/R/bin/R CMD build --keep-empty-dirs --no-resave-data SingscoreAMLMutations StartedAt: 2025-11-04 13:11:50 -0500 (Tue, 04 Nov 2025) EndedAt: 2025-11-04 13:16:09 -0500 (Tue, 04 Nov 2025) EllapsedTime: 259.0 seconds RetCode: 1 Status: ERROR PackageFile: None PackageFileSize: NA