Package: RNAseq123 Version: 1.34.0 Command: /home/biocbuild/bbs-3.22-bioc/R/bin/R CMD build --keep-empty-dirs --no-resave-data RNAseq123 StartedAt: 2025-11-04 13:08:48 -0500 (Tue, 04 Nov 2025) EndedAt: 2025-11-04 13:10:28 -0500 (Tue, 04 Nov 2025) EllapsedTime: 100.0 seconds RetCode: 0 Status: OK PackageFile: RNAseq123_1.34.0.tar.gz PackageFileSize: 6.923 MiB