Package: ExpressionNormalizationWorkflow Version: 1.36.0 Command: /home/biocbuild/bbs-3.22-bioc/R/bin/R CMD INSTALL ExpressionNormalizationWorkflow StartedAt: 2025-11-04 13:00:33 -0500 (Tue, 04 Nov 2025) EndedAt: 2025-11-04 13:00:56 -0500 (Tue, 04 Nov 2025) EllapsedTime: 23.1 seconds RetCode: 0 Status: OK