Package: ExpressionNormalizationWorkflow Version: 1.36.0 Command: /home/biocbuild/bbs-3.22-bioc/R/bin/R CMD build --keep-empty-dirs --no-resave-data ExpressionNormalizationWorkflow StartedAt: 2025-11-04 13:04:57 -0500 (Tue, 04 Nov 2025) EndedAt: 2025-11-04 13:10:11 -0500 (Tue, 04 Nov 2025) EllapsedTime: 314.1 seconds RetCode: 0 Status: OK PackageFile: ExpressionNormalizationWorkflow_1.36.0.tar.gz PackageFileSize: 3.419 MiB