Package: ExpressionNormalizationWorkflow Version: 1.34.0 Command: /home/biocbuild/bbs-3.21-bioc/R/bin/R CMD INSTALL ExpressionNormalizationWorkflow StartedAt: 2025-10-07 13:00:24 -0400 (Tue, 07 Oct 2025) EndedAt: 2025-10-07 13:00:46 -0400 (Tue, 07 Oct 2025) EllapsedTime: 22.1 seconds RetCode: 0 Status: OK