Package: ExpressionNormalizationWorkflow Version: 1.34.0 Command: /Library/Frameworks/R.framework/Resources/bin/R CMD INSTALL ExpressionNormalizationWorkflow StartedAt: 2025-10-07 13:01:13 -0400 (Tue, 07 Oct 2025) EndedAt: 2025-10-07 13:02:24 -0400 (Tue, 07 Oct 2025) EllapsedTime: 71.4 seconds RetCode: 0 Status: OK