Package: ExpressionNormalizationWorkflow Version: 1.34.0 Command: /Library/Frameworks/R.framework/Resources/bin/R CMD build --keep-empty-dirs --no-resave-data ExpressionNormalizationWorkflow StartedAt: 2025-10-07 13:10:57 -0400 (Tue, 07 Oct 2025) EndedAt: 2025-10-07 13:32:23 -0400 (Tue, 07 Oct 2025) EllapsedTime: 1285.8 seconds RetCode: 0 Status: OK PackageFile: ExpressionNormalizationWorkflow_1.34.0.tar.gz PackageFileSize: 3.35 MiB