Package: zebrafishRNASeq Version: 1.30.0 Command: /home/biocbuild/bbs-3.22-bioc/R/bin/R CMD INSTALL zebrafishRNASeq StartedAt: 2025-11-06 10:55:36 -0500 (Thu, 06 Nov 2025) EndedAt: 2025-11-06 10:55:38 -0500 (Thu, 06 Nov 2025) EllapsedTime: 1.4 seconds RetCode: 0 Status: OK