Package: zebrafishRNASeq Version: 1.30.0 Command: /home/biocbuild/bbs-3.22-bioc/R/bin/R CMD build --keep-empty-dirs --no-resave-data zebrafishRNASeq StartedAt: 2025-11-06 11:48:53 -0500 (Thu, 06 Nov 2025) EndedAt: 2025-11-06 11:48:57 -0500 (Thu, 06 Nov 2025) EllapsedTime: 4.0 seconds RetCode: 0 Status: OK PackageFile: zebrafishRNASeq_1.30.0.tar.gz PackageFileSize: 429 KiB