Package: zebrafishRNASeq Version: 1.30.0 Maintainer: Davide Risso MaintainerEmail: risso.davide at gmail.com git_url: https://git.bioconductor.org/packages/zebrafishRNASeq git_branch: RELEASE_3_22 git_last_commit: 2cb20d4 git_last_commit_date: 2025-10-29 09:55:10 -0400 (Wed, 29 Oct 2025)