Package: yeastExpData Version: 0.56.0 Command: /home/biocbuild/bbs-3.22-bioc/R/bin/R CMD build --keep-empty-dirs --no-resave-data yeastExpData StartedAt: 2025-11-06 11:48:44 -0500 (Thu, 06 Nov 2025) EndedAt: 2025-11-06 11:48:53 -0500 (Thu, 06 Nov 2025) EllapsedTime: 8.6 seconds RetCode: 0 Status: OK PackageFile: yeastExpData_0.56.0.tar.gz PackageFileSize: 935 KiB