Package: xcoredata Version: 1.14.0 Command: /home/biocbuild/bbs-3.22-bioc/R/bin/R CMD build --keep-empty-dirs --no-resave-data xcoredata StartedAt: 2025-11-06 11:48:37 -0500 (Thu, 06 Nov 2025) EndedAt: 2025-11-06 11:50:47 -0500 (Thu, 06 Nov 2025) EllapsedTime: 129.5 seconds RetCode: 0 Status: OK PackageFile: xcoredata_1.14.0.tar.gz PackageFileSize: 1.332 MiB